BEGIN:VCALENDAR
VERSION:2.0
PRODID:-//Construction Safety Nova Scotia - ECPv6.15.20//NONSGML v1.0//EN
CALSCALE:GREGORIAN
METHOD:PUBLISH
X-ORIGINAL-URL:https://constructionsafetyns.ca
X-WR-CALDESC:Events for Construction Safety Nova Scotia
REFRESH-INTERVAL;VALUE=DURATION:PT1H
X-Robots-Tag:noindex
X-PUBLISHED-TTL:PT1H
BEGIN:VTIMEZONE
TZID:America/Halifax
BEGIN:DAYLIGHT
TZOFFSETFROM:-0400
TZOFFSETTO:-0300
TZNAME:ADT
DTSTART:20250309T060000
END:DAYLIGHT
BEGIN:STANDARD
TZOFFSETFROM:-0300
TZOFFSETTO:-0400
TZNAME:AST
DTSTART:20251102T050000
END:STANDARD
BEGIN:DAYLIGHT
TZOFFSETFROM:-0400
TZOFFSETTO:-0300
TZNAME:ADT
DTSTART:20260308T060000
END:DAYLIGHT
BEGIN:STANDARD
TZOFFSETFROM:-0300
TZOFFSETTO:-0400
TZNAME:AST
DTSTART:20261101T050000
END:STANDARD
BEGIN:DAYLIGHT
TZOFFSETFROM:-0400
TZOFFSETTO:-0300
TZNAME:ADT
DTSTART:20270314T060000
END:DAYLIGHT
BEGIN:STANDARD
TZOFFSETFROM:-0300
TZOFFSETTO:-0400
TZNAME:AST
DTSTART:20271107T050000
END:STANDARD
END:VTIMEZONE
BEGIN:VEVENT
DTSTART;TZID=America/Halifax:20260502T104500
DTEND;TZID=America/Halifax:20260502T120000
DTSTAMP:20260424T053115
CREATED:20260423T150529Z
LAST-MODIFIED:20260423T150529Z
UID:16307-1777718700-1777723200@constructionsafetyns.ca
SUMMARY:Steps for Life
DESCRIPTION:Construction Safety Nova Scotia is a proud sponsor of Steps for Life 2026\, supporting Threads of Life and families affected by workplace tragedy. \nOn Saturday\, May 2\, our team will walk in Halifax to honour those impacted by workplace fatalities\, life-altering injuries\, and occupational disease. CSNS is committed to advancing workplace safety\, and our participation reinforces our support for the 3\,900 family members across Canada who rely on Threads of Life for peer support and resources. \nEvery dollar raised helps provide these vital connections while promoting the awareness needed to prevent future workplace harm. \nWe invite you to walk with us or support our fundraising efforts. Whether you are walking in Halifax or donating to the cause\, your contribution makes a meaningful difference for families across the country. \nRegister or Donate to the CSNS Team
URL:https://constructionsafetyns.ca/event/steps-for-life/
LOCATION:Point Pleasant Park
ORGANIZER;CN="Threads of Life":MAILTO:contact@threadsoflife.ca
END:VEVENT
BEGIN:VEVENT
DTSTART;TZID=America/Halifax:20260505T150000
DTEND;TZID=America/Halifax:20260505T180000
DTSTAMP:20260424T053115
CREATED:20260415T131443Z
LAST-MODIFIED:20260415T131657Z
UID:16288-1777993200-1778004000@constructionsafetyns.ca
SUMMARY:CSNS Member Connection: Cape Breton
DESCRIPTION:Join CSNS members and industry partners to reconnect and build new professional ties in Cape Breton. \nWe are bringing the CSNS Member Connection to Membertou to reintroduce our team and safety resources to our local partners. As we prepare for a busy season ahead\, this is your opportunity to connect directly with our advisors\, explore our latest training programs\, and network with fellow industry leaders. \nEnjoy refreshments\, hors d’oeuvres\, and live music from Calum MacPhee and Curt Dillon as we work together to build a safer Cape Breton. \nEvent Details\nDate: Tuesday\, May 5\, 2026 \nTime: 3:00 PM – 6:00 PM \nLocation: Kiju’s Restaurant (50 Autwen Ma’sl Awti\, Membertou\, NS B1S 3W3) \nRegistration information coming soon!
URL:https://constructionsafetyns.ca/event/csns-member-connection-cape-breton/
LOCATION:Kiju’s Restaurant\, 50 Autwen Ma'sl Awti\, Membertou\, Nova Scotia\, B1S 3W3\, Canada
ORGANIZER;CN="Construction Safety Nova Scotia":MAILTO:info@constructionsafetyns.ca
END:VEVENT
END:VCALENDAR