BEGIN:VCALENDAR
VERSION:2.0
PRODID:-//Construction Safety Nova Scotia - ECPv6.15.20//NONSGML v1.0//EN
CALSCALE:GREGORIAN
METHOD:PUBLISH
X-WR-CALNAME:Construction Safety Nova Scotia
X-ORIGINAL-URL:https://constructionsafetyns.ca
X-WR-CALDESC:Events for Construction Safety Nova Scotia
REFRESH-INTERVAL;VALUE=DURATION:PT1H
X-Robots-Tag:noindex
X-PUBLISHED-TTL:PT1H
BEGIN:VTIMEZONE
TZID:America/Halifax
BEGIN:DAYLIGHT
TZOFFSETFROM:-0400
TZOFFSETTO:-0300
TZNAME:ADT
DTSTART:20250309T060000
END:DAYLIGHT
BEGIN:STANDARD
TZOFFSETFROM:-0300
TZOFFSETTO:-0400
TZNAME:AST
DTSTART:20251102T050000
END:STANDARD
BEGIN:DAYLIGHT
TZOFFSETFROM:-0400
TZOFFSETTO:-0300
TZNAME:ADT
DTSTART:20260308T060000
END:DAYLIGHT
BEGIN:STANDARD
TZOFFSETFROM:-0300
TZOFFSETTO:-0400
TZNAME:AST
DTSTART:20261101T050000
END:STANDARD
BEGIN:DAYLIGHT
TZOFFSETFROM:-0400
TZOFFSETTO:-0300
TZNAME:ADT
DTSTART:20270314T060000
END:DAYLIGHT
BEGIN:STANDARD
TZOFFSETFROM:-0300
TZOFFSETTO:-0400
TZNAME:AST
DTSTART:20271107T050000
END:STANDARD
END:VTIMEZONE
BEGIN:VEVENT
DTSTART;VALUE=DATE:20260327
DTEND;VALUE=DATE:20260328
DTSTAMP:20260422T195923
CREATED:20260415T130138Z
LAST-MODIFIED:20260415T130239Z
UID:16278-1774569600-1774655999@constructionsafetyns.ca
SUMMARY:Skills NS Exhibition Showcase Dartmouth
DESCRIPTION:CSNS is sponsoring the Skills Nova Scotia Career Showcase brings an interactive experience to students from across the province each year. \nJunior and senior high school students are invited to visit and explore their career options. All exhibits at the event have a hands-on activity to engage hundreds of visiting students. \nUpcoming Career Showcase Events: \n\nMarch 27\, 2026 – NSCC Ivany Campus in Dartmouth\, NS\n(in conjunction with the Nova Scotia Skills Competition and Abilympics Competition)\nApril 10\, 2026 – NSCC Waterfront Campus in Sydney\, NS\n(in conjunction with the Nova Scotia Skills Competition and Abilympics Competition)\nApril 28\, 2026 – NSCC Kingstec Campus in Kentville\, NS\n\nWe will see you there!
URL:https://constructionsafetyns.ca/event/skills-ns-exhibition-showcase-dartmouth/
LOCATION:NSCC Ivany Campus\, 80 Mawiomi Pl\, Dartmouth\, NS\, B2Y 0A5\, Canada
ORGANIZER;CN="Skills NS":MAILTO:info@skillsns.ca
END:VEVENT
END:VCALENDAR